BEGIN:VCALENDAR
VERSION:2.0
PRODID:-//CJCB - ECPv4.6.26//NONSGML v1.0//EN
CALSCALE:GREGORIAN
METHOD:PUBLISH
X-WR-CALNAME:CJCB
X-ORIGINAL-URL:https://cjcbradio.com
X-WR-CALDESC:Events for CJCB
BEGIN:VEVENT
DTSTART;TZID=America/Halifax:20230924T130000
DTEND;TZID=America/Halifax:20230924T160000
DTSTAMP:20260425T131413
CREATED:20230821T162153Z
LAST-MODIFIED:20230913T140741Z
UID:9211-1695560400-1695571200@cjcbradio.com
SUMMARY:43rd Terry Fox Run Glace Bay
DESCRIPTION:***Update:  Postponed a week due to forecast (Everything in post is with updated info.)**** \nSunday\, September 24\, 2023\nLocation: Renwick Brook\, Glace Bay \nRUN DAY DETAILS \nRegistration: 1:00 pm\nTime Start to Close: 2:00 – 4:00 pm \nROUTE INFORMATION \nDistance: 4 km walking trail surrounding Brook or shorter Route 1.8 km\nAccess: Bicycle\, Stroller\, Wheelchair\, Dogs on leash \nFree water will be provided to participants along with wrist bracelets\, stickers\, certificates and “Dear Terry Postcards.” T-Shirts will be available prior to or on the day of the Run at a cost of $25. \n
URL:https://cjcbradio.com/event/14463/
END:VEVENT
END:VCALENDAR