BEGIN:VCALENDAR
VERSION:2.0
PRODID:-//CJCB - ECPv4.6.26//NONSGML v1.0//EN
CALSCALE:GREGORIAN
METHOD:PUBLISH
X-WR-CALNAME:CJCB
X-ORIGINAL-URL:https://cjcbradio.com
X-WR-CALDESC:Events for CJCB
BEGIN:VEVENT
DTSTART;TZID=America/Halifax:20240808T160000
DTEND;TZID=America/Halifax:20240808T180000
DTSTAMP:20260422T232529
CREATED:20240625T173510Z
LAST-MODIFIED:20240625T173524Z
UID:9759-1723132800-1723140000@cjcbradio.com
SUMMARY:Minnie Bazaar
DESCRIPTION:Aug 8 from 4-6 pm. 25 Currys Lane Whitney Pier. Kids fun day Fundraiser in Memory of Valerie Green Andrea. Lots of fun for all ages. \n
URL:https://cjcbradio.com/event/15769/
END:VEVENT
END:VCALENDAR