BEGIN:VCALENDAR
VERSION:2.0
PRODID:-//CJCB - ECPv4.6.26//NONSGML v1.0//EN
CALSCALE:GREGORIAN
METHOD:PUBLISH
X-WR-CALNAME:CJCB
X-ORIGINAL-URL:https://cjcbradio.com
X-WR-CALDESC:Events for CJCB
BEGIN:VEVENT
DTSTART;VALUE=DATE:20260531
DTEND;VALUE=DATE:20260601
DTSTAMP:20260421T110650
CREATED:20260420T172751Z
LAST-MODIFIED:20260420T172751Z
UID:10701-1780185600-1780271999@cjcbradio.com
SUMMARY:2026 Cape Breton MS Walk
DESCRIPTION:2026 Cape Breton MS Walk is on Sunday May 31st at Emera Centre North Sydney. Registration starts at 1 pm and the Opening Ceremonies kick off at 2 pm with special musical guests Breagh Kelly and the Heritage African Drummers. This is a day for all those living with multiple sclerosis\, their families and community to show support through awareness\, advocacy and education. Come celebrate the power of community at Cape Breton MS Walk! \n
URL:https://cjcbradio.com/event/2026-cape-breton-ms-walk/
END:VEVENT
END:VCALENDAR