BEGIN:VCALENDAR
VERSION:2.0
PRODID:-//CJCB - ECPv4.6.26//NONSGML v1.0//EN
CALSCALE:GREGORIAN
METHOD:PUBLISH
X-WR-CALNAME:CJCB
X-ORIGINAL-URL:https://cjcbradio.com
X-WR-CALDESC:Events for CJCB
BEGIN:VEVENT
DTSTART;TZID=America/Halifax:20250717T140000
DTEND;TZID=America/Halifax:20250717T170000
DTSTAMP:20260425T192503
CREATED:20250717T092638Z
LAST-MODIFIED:20250717T092638Z
UID:10325-1752760800-1752771600@cjcbradio.com
SUMMARY: 2nd Annual Bert Davis Cribbage Tournament at the Army and Navy Airforce Unit 217
DESCRIPTION:Come and enjoy an afternoon of Cribb. It’s $10.00 to play and all monies are returned in Prizes plus door prizes! Stick around for some house music in the evening. For more info\, call Cathy at 902 317 0622.\n
URL:https://cjcbradio.com/event/2nd-annual-bert-davis-cribbage-tournament-at-the-army-and-navy-airforce-unit-217/
END:VEVENT
END:VCALENDAR