BEGIN:VCALENDAR
VERSION:2.0
PRODID:-//CJCB - ECPv4.6.26//NONSGML v1.0//EN
CALSCALE:GREGORIAN
METHOD:PUBLISH
X-WR-CALNAME:CJCB
X-ORIGINAL-URL:https://cjcbradio.com
X-WR-CALDESC:Events for CJCB
BEGIN:VEVENT
DTSTART;TZID=UTC+0:20170604T140000
DTEND;TZID=UTC+0:20170604T140000
DTSTAMP:20260421T203447
CREATED:20170602T164358Z
LAST-MODIFIED:20170602T164358Z
UID:743-1496584800-1496584800@cjcbradio.com
SUMMARY:3rd Annual Caleb's Kitchen Party
DESCRIPTION:3rd Annual Caleb’s Kitchen Party \nJune 4th\, 2017 from 2 PM – 5 PM at the Joan Harris Cruise Pavillion featuring local Cape Breton performers.  Donations or Caleb’s Courage accepted at the door. \n
URL:https://cjcbradio.com/event/3rd-annual-calebs-kitchen-party/
END:VEVENT
END:VCALENDAR