BEGIN:VCALENDAR
VERSION:2.0
PRODID:-//CJCB - ECPv4.6.26//NONSGML v1.0//EN
CALSCALE:GREGORIAN
METHOD:PUBLISH
X-WR-CALNAME:CJCB
X-ORIGINAL-URL:https://cjcbradio.com
X-WR-CALDESC:Events for CJCB
BEGIN:VEVENT
DTSTART;TZID=UTC+0:20171213T140000
DTEND;TZID=UTC+0:20171213T160000
DTSTAMP:20260424T100755
CREATED:20171122T171817Z
LAST-MODIFIED:20171122T171817Z
UID:1270-1513173600-1513180800@cjcbradio.com
SUMMARY:45's Card Game
DESCRIPTION:45’s Card Game will be held at The Mira Seniors and Pensioners’ Centre\, Marion Bridge on Wednesday\, December 13\, 2017 from 2 PM – 4 PM.  All Are Welcome! \n
URL:https://cjcbradio.com/event/45s-card-game-14/
END:VEVENT
END:VCALENDAR