BEGIN:VCALENDAR
VERSION:2.0
PRODID:-//CJCB - ECPv4.6.26//NONSGML v1.0//EN
CALSCALE:GREGORIAN
METHOD:PUBLISH
X-WR-CALNAME:CJCB
X-ORIGINAL-URL:https://cjcbradio.com
X-WR-CALDESC:Events for CJCB
BEGIN:VEVENT
DTSTART;TZID=America/Halifax:20180110T140000
DTEND;TZID=America/Halifax:20180110T160000
DTSTAMP:20260424T115559
CREATED:20171221T182841Z
LAST-MODIFIED:20171221T182841Z
UID:1339-1515592800-1515600000@cjcbradio.com
SUMMARY:45's Card Game
DESCRIPTION:45’s Card Game will be held at The Mira Seniors & Pensioners Centre\, Marion Bridge on Wednesday\, January 10\, 2018 from 2 PM – 4 PM.  All are Welcome! \n
URL:https://cjcbradio.com/event/45s-card-game-15/
END:VEVENT
END:VCALENDAR