BEGIN:VCALENDAR
VERSION:2.0
PRODID:-//CJCB - ECPv4.6.26//NONSGML v1.0//EN
CALSCALE:GREGORIAN
METHOD:PUBLISH
X-WR-CALNAME:CJCB
X-ORIGINAL-URL:https://cjcbradio.com
X-WR-CALDESC:Events for CJCB
BEGIN:VEVENT
DTSTART;TZID=UTC+0:20170308T140000
DTEND;TZID=UTC+0:20170308T160000
DTSTAMP:20260422T103330
CREATED:20170301T000407Z
LAST-MODIFIED:20170301T000407Z
UID:302-1488981600-1488988800@cjcbradio.com
SUMMARY:45's Card Game
DESCRIPTION:the Mira Seniors & Pensioners Centre in Marion Bridge on Wednesday\, March 8th 2 PM – 4 PM.  All are welcome. \n
URL:https://cjcbradio.com/event/45s-card-game-2/
END:VEVENT
END:VCALENDAR