BEGIN:VCALENDAR
VERSION:2.0
PRODID:-//CJCB - ECPv4.6.26//NONSGML v1.0//EN
CALSCALE:GREGORIAN
METHOD:PUBLISH
X-WR-CALNAME:CJCB
X-ORIGINAL-URL:https://cjcbradio.com
X-WR-CALDESC:Events for CJCB
BEGIN:VEVENT
DTSTART;TZID=UTC+0:20170517T140000
DTEND;TZID=UTC+0:20170517T160000
DTSTAMP:20260422T232006
CREATED:20170424T165741Z
LAST-MODIFIED:20170424T165741Z
UID:573-1495029600-1495036800@cjcbradio.com
SUMMARY:45's Card Game
DESCRIPTION:45’s Card Game will be held at Mira Seniors’ and Pensioners’ Centre in Marion Bridge on Wednesday\, May 17\, 2017 from 2 PM – 4 PM.  All are Welcome! \n
URL:https://cjcbradio.com/event/45s-card-game-7/
END:VEVENT
END:VCALENDAR