BEGIN:VCALENDAR
VERSION:2.0
PRODID:-//CJCB - ECPv4.6.26//NONSGML v1.0//EN
CALSCALE:GREGORIAN
METHOD:PUBLISH
X-WR-CALNAME:CJCB
X-ORIGINAL-URL:https://cjcbradio.com
X-WR-CALDESC:Events for CJCB
BEGIN:VEVENT
DTSTART;TZID=UTC+0:20171011T140000
DTEND;TZID=UTC+0:20171011T160000
DTSTAMP:20260421T141820
CREATED:20170919T164323Z
LAST-MODIFIED:20170919T164323Z
UID:982-1507730400-1507737600@cjcbradio.com
SUMMARY:45's Card Game
DESCRIPTION:45’s Card Game will be held at The Mira Seniors’ and Pensioners’ Centre\, Marion Bridge on Wednesday\, October 11 from 2 PM – 4 PM.  All are welcome! \n
URL:https://cjcbradio.com/event/45s-card-game-9/
END:VEVENT
END:VCALENDAR