BEGIN:VCALENDAR
VERSION:2.0
PRODID:-//CJCB - ECPv4.6.26//NONSGML v1.0//EN
CALSCALE:GREGORIAN
METHOD:PUBLISH
X-WR-CALNAME:CJCB
X-ORIGINAL-URL:https://cjcbradio.com
X-WR-CALDESC:Events for CJCB
BEGIN:VEVENT
DTSTART;TZID=America/Halifax:20230927T180000
DTEND;TZID=America/Halifax:20230927T193000
DTSTAMP:20260425T174703
CREATED:20230906T154604Z
LAST-MODIFIED:20230906T154604Z
UID:9250-1695837600-1695843000@cjcbradio.com
SUMMARY:Adult Art Session
DESCRIPTION:Glace Bay Library \nSept 27 \n6 – 7:30 \nJoin us for some fall themed art.   Register by calling 902-849-8657 or email: ewilliams@cbrl.ca or cmcinnis@cbrl.ca \n
URL:https://cjcbradio.com/event/adult-art-session/
END:VEVENT
END:VCALENDAR