BEGIN:VCALENDAR
VERSION:2.0
PRODID:-//CJCB - ECPv4.6.26//NONSGML v1.0//EN
CALSCALE:GREGORIAN
METHOD:PUBLISH
X-WR-CALNAME:CJCB
X-ORIGINAL-URL:https://cjcbradio.com
X-WR-CALDESC:Events for CJCB
BEGIN:VEVENT
DTSTART;TZID=America/Halifax:20230320T080000
DTEND;TZID=America/Halifax:20230320T190000
DTSTAMP:20260422T063347
CREATED:20230313T173121Z
LAST-MODIFIED:20230313T173121Z
UID:8951-1679299200-1679338800@cjcbradio.com
SUMMARY:Adult Colouring 
DESCRIPTION:Glace Bay Library \nMon March 20 \n10am – 7pm \nDrop in and relax and unwind with some adult colouring \n
URL:https://cjcbradio.com/event/adult-colouring-2/
END:VEVENT
END:VCALENDAR