BEGIN:VCALENDAR
VERSION:2.0
PRODID:-//CJCB - ECPv4.6.26//NONSGML v1.0//EN
CALSCALE:GREGORIAN
METHOD:PUBLISH
X-WR-CALNAME:CJCB
X-ORIGINAL-URL:https://cjcbradio.com
X-WR-CALDESC:Events for CJCB
BEGIN:VEVENT
DTSTART;TZID=America/Halifax:20230717T130000
DTEND;TZID=America/Halifax:20230717T190000
DTSTAMP:20260424T055051
CREATED:20230626T175048Z
LAST-MODIFIED:20230626T175048Z
UID:9164-1689598800-1689620400@cjcbradio.com
SUMMARY:Adult Colouring
DESCRIPTION:Glace Bay Library \nMonday July 17 \n1 – 7pm \nDrop in\, stay cool\, and colour. \n  \n
URL:https://cjcbradio.com/event/adult-colouring/
END:VEVENT
END:VCALENDAR