BEGIN:VCALENDAR
VERSION:2.0
PRODID:-//CJCB - ECPv4.6.26//NONSGML v1.0//EN
CALSCALE:GREGORIAN
METHOD:PUBLISH
X-WR-CALNAME:CJCB
X-ORIGINAL-URL:https://cjcbradio.com
X-WR-CALDESC:Events for CJCB
BEGIN:VEVENT
DTSTART;TZID=America/Halifax:20190728T140000
DTEND;TZID=America/Halifax:20190728T150000
DTSTAMP:20260425T173158
CREATED:20190718T133708Z
LAST-MODIFIED:20190718T133708Z
UID:5596-1564322400-1564326000@cjcbradio.com
SUMMARY:Annual Memorial Service
DESCRIPTION:All Saints Memorial Anglican Church\, New Waterford are having their Annual Memorial Service at All Saints Memorial Cemetery\, Hudson Street\, New Waterford on Sunday\, July 28th at 2 PM at the Cemetery. \nIn case of inclement weather the service will be held in All Saints Memorial Church\, Gibbon Street \n
URL:https://cjcbradio.com/event/annual-memorial-service-3/
END:VEVENT
END:VCALENDAR