BEGIN:VCALENDAR
VERSION:2.0
PRODID:-//CJCB - ECPv4.6.26//NONSGML v1.0//EN
CALSCALE:GREGORIAN
METHOD:PUBLISH
X-WR-CALNAME:CJCB
X-ORIGINAL-URL:https://cjcbradio.com
X-WR-CALDESC:Events for CJCB
BEGIN:VEVENT
DTSTART;TZID=America/Halifax:20240526T110000
DTEND;TZID=America/Halifax:20240526T150000
DTSTAMP:20260422T204122
CREATED:20240502T142825Z
LAST-MODIFIED:20240502T142825Z
UID:9635-1716721200-1716735600@cjcbradio.com
SUMMARY:BADDECK SPRING MARKET
DESCRIPTION:We are so excited to announce that we are hosting a second Spring Market!  \nLocation: Inverary Resort\, Baddeck\n(MacAulay Conference Centre) \nDate: Sunday\, May 26th\, 2024\nTime: 11AM-3PM \n$2 admission – free admission for children 12 & under. \nSpring minis will be taken by Brittany Burke Photography  \nWe will be accepting non perishable items to be donated in support of the Helping Hands South of Smokey Food Bank! \n
URL:https://cjcbradio.com/event/baddeck-spring-market/
END:VEVENT
END:VCALENDAR