BEGIN:VCALENDAR
VERSION:2.0
PRODID:-//CJCB - ECPv4.6.26//NONSGML v1.0//EN
CALSCALE:GREGORIAN
METHOD:PUBLISH
X-WR-CALNAME:CJCB
X-ORIGINAL-URL:https://cjcbradio.com
X-WR-CALDESC:Events for CJCB
BEGIN:VEVENT
DTSTART;TZID=America/Halifax:20191117T140000
DTEND;TZID=America/Halifax:20191117T160000
DTSTAMP:20260419T133158
CREATED:20191112T124909Z
LAST-MODIFIED:20191112T124909Z
UID:5990-1573999200-1574006400@cjcbradio.com
SUMMARY:Blueberry Festival and Bake Sale
DESCRIPTION:Blueberry Festival and Bake Sale \nBrookshaven Senior Center \nSunday Nov 17/19 from 2-4pm $8\nEnjoy a delicious blueberry dessert tea/coffee and then view our delicious bake sale table \n
URL:https://cjcbradio.com/event/blueberry-festival-and-bake-sale/
END:VEVENT
END:VCALENDAR