BEGIN:VCALENDAR
VERSION:2.0
PRODID:-//CJCB - ECPv4.6.26//NONSGML v1.0//EN
CALSCALE:GREGORIAN
METHOD:PUBLISH
X-WR-CALNAME:CJCB
X-ORIGINAL-URL:https://cjcbradio.com
X-WR-CALDESC:Events for CJCB
BEGIN:VEVENT
DTSTART;TZID=America/Halifax:20190428T160000
DTEND;TZID=America/Halifax:20190428T180000
DTSTAMP:20260419T141435
CREATED:20190424T181304Z
LAST-MODIFIED:20190424T181304Z
UID:5344-1556467200-1556474400@cjcbradio.com
SUMMARY:Bras d'Or CWL Roast Beef Supper
DESCRIPTION:Roast Beef Supper with Strawberry Shortcake\, eat in or takeout at Bras d’Or Parish Hall\, Sunday. April 28\, 2019 from 4-6 pm Price $12.00 sponsored by the Bras d’Or CWL Thank You \n
URL:https://cjcbradio.com/event/bras-dor-cwl-roast-beef-supper/
END:VEVENT
END:VCALENDAR