BEGIN:VCALENDAR
VERSION:2.0
PRODID:-//CJCB - ECPv4.6.26//NONSGML v1.0//EN
CALSCALE:GREGORIAN
METHOD:PUBLISH
X-WR-CALNAME:CJCB
X-ORIGINAL-URL:https://cjcbradio.com
X-WR-CALDESC:Events for CJCB
BEGIN:VEVENT
DTSTART;VALUE=DATE:20240402
DTEND;VALUE=DATE:20240425
DTSTAMP:20260422T022910
CREATED:20240312T145343Z
LAST-MODIFIED:20240312T145343Z
UID:9581-1712016000-1714003199@cjcbradio.com
SUMMARY:Breast Screening Mobile in Glace Bay
DESCRIPTION:The Nova Scotia Breast Screening Mobile will be located at the Glace Bay General Hospital from April 2 – 24\, 2024. To book an appointment please call 1-800-565-0548 and have your Health Card number ready. \n
URL:https://cjcbradio.com/event/breast-screening-mobile-in-glace-bay/
END:VEVENT
END:VCALENDAR