BEGIN:VCALENDAR
VERSION:2.0
PRODID:-//CJCB - ECPv4.6.26//NONSGML v1.0//EN
CALSCALE:GREGORIAN
METHOD:PUBLISH
X-WR-CALNAME:CJCB
X-ORIGINAL-URL:https://cjcbradio.com
X-WR-CALDESC:Events for CJCB
BEGIN:VEVENT
DTSTART;VALUE=DATE:20240603
DTEND;VALUE=DATE:20240609
DTSTAMP:20260422T155740
CREATED:20240516T140731Z
LAST-MODIFIED:20240516T140731Z
UID:9676-1717372800-1717891199@cjcbradio.com
SUMMARY:Breast Screening Mobile in Neil's Harbour
DESCRIPTION:The Nova Scotia Breast Screening Mobile will be located at Buchanan Memorial Hospital in Neil’s Harbour from June 3 – 8. To book an appointment please call 1-800-565-0548 and have your Health Card number ready. \n
URL:https://cjcbradio.com/event/breast-screening-mobile-in-neils-harbour/
END:VEVENT
END:VCALENDAR