BEGIN:VCALENDAR
VERSION:2.0
PRODID:-//CJCB - ECPv4.6.26//NONSGML v1.0//EN
CALSCALE:GREGORIAN
METHOD:PUBLISH
X-WR-CALNAME:CJCB
X-ORIGINAL-URL:https://cjcbradio.com
X-WR-CALDESC:Events for CJCB
BEGIN:VEVENT
DTSTART;VALUE=DATE:20260502
DTEND;VALUE=DATE:20260503
DTSTAMP:20260420T213607
CREATED:20260420T173255Z
LAST-MODIFIED:20260420T173255Z
UID:10704-1777680000-1777766399@cjcbradio.com
SUMMARY:"Buth-obrach Orain Ghaidhlig" (Gaelic Songs Workshops) & "Celtic Spring Family Concert"
DESCRIPTION:We are sponsoring 4 events for Gaelic Awareness Month\, May 2026 at St. Barra Church & Christmas Island Communities Centre at 47 Church Road\, Christmas Island\, NS. Saturday\, May 2nd: Hannah Krebs teaches local Gaelic songs from 2-4pm. Sunday\, May 3rd: “Celtic Spring Family Concert” featuring Local Talent and starting at 2pm. Saturday\, May 16th: Connall MacKinnon teaches some more local Gaelic songs from 2-4pm. Saturday\, May 30th: Angus MacLeod teaches the old way to compose Gaelic songs from 2-4pm. Coffee\, tea\, & sweets served! Admission by Donation for all events! Sponsored by: The Wardens of the Church of St. Barra Preservation and Development Society & NSGA. Facebook: St. Barra’s Preservation and Development Society. Text: (902) 217-6659. Email: barryjgeorge1@gmail.com \n
URL:https://cjcbradio.com/event/buth-obrach-orain-ghaidhlig-gaelic-songs-workshops-celtic-spring-family-concert/2026-05-02/
END:VEVENT
END:VCALENDAR