BEGIN:VCALENDAR
VERSION:2.0
PRODID:-//CJCB - ECPv4.6.26//NONSGML v1.0//EN
CALSCALE:GREGORIAN
METHOD:PUBLISH
X-WR-CALNAME:CJCB
X-ORIGINAL-URL:https://cjcbradio.com
X-WR-CALDESC:Events for CJCB
BEGIN:VEVENT
DTSTART;TZID=America/Halifax:20260506T180000
DTEND;TZID=America/Halifax:20260506T190000
DTSTAMP:20260420T231814
CREATED:20260420T175204Z
LAST-MODIFIED:20260420T175204Z
UID:10708-1778090400-1778094000@cjcbradio.com
SUMMARY:Butterfly Magnets
DESCRIPTION:Glace Bay Library \nWed May 6     6-7pm. \nMake some Spring butterfly magnets. Registration Required\, email glacebay@cbrl.ca or phone 902-849-8657 \n  \n
URL:https://cjcbradio.com/event/butterfly-magnets/
END:VEVENT
END:VCALENDAR