BEGIN:VCALENDAR
VERSION:2.0
PRODID:-//CJCB - ECPv4.6.26//NONSGML v1.0//EN
CALSCALE:GREGORIAN
METHOD:PUBLISH
X-WR-CALNAME:CJCB
X-ORIGINAL-URL:https://cjcbradio.com
X-WR-CALDESC:Events for CJCB
BEGIN:VEVENT
DTSTART;TZID=America/Halifax:20230213T130000
DTEND;TZID=America/Halifax:20230213T170000
DTSTAMP:20260422T103024
CREATED:20230202T144653Z
LAST-MODIFIED:20230202T144653Z
UID:8844-1676293200-1676307600@cjcbradio.com
SUMMARY:Button Maker
DESCRIPTION:Mon Feb 13\n1pm – 5pm\nGlace Bay Library\nDrop in and make a button to wear in celebration of African History Month and in Honour of Rita Joe. \n
URL:https://cjcbradio.com/event/button-maker/
END:VEVENT
END:VCALENDAR