BEGIN:VCALENDAR
VERSION:2.0
PRODID:-//CJCB - ECPv4.6.26//NONSGML v1.0//EN
CALSCALE:GREGORIAN
METHOD:PUBLISH
X-WR-CALNAME:CJCB
X-ORIGINAL-URL:https://cjcbradio.com
X-WR-CALDESC:Events for CJCB
BEGIN:VEVENT
DTSTART;TZID=UTC+0:20170425T124500
DTEND;TZID=UTC+0:20170425T153000
DTSTAMP:20260422T140410
CREATED:20170308T182647Z
LAST-MODIFIED:20170308T182647Z
UID:318-1493124300-1493134200@cjcbradio.com
SUMMARY:Cancer Transitions - Moving Beyond Treatment
DESCRIPTION:Cancer Transitions – Moving Beyond Treatment – a Free seven week program people who have completed cancer treatment will begin on Tuesday\, April 25th\, 2017 and run consecutive Tuesdays from 12:45 – 3:30 pm at the YMCA\, Charlotte St.\, Sydney. Topics include Taking Control of your Survivorship\, Exercise for Wellness\, Emotional Health and Well- Being\, Medical Management Beyond Cancer\, and Moving Beyond Cancer. For more information and to pre- register contact Caren Fortune or Dawn Carey at the Cape Breton Cancer Center at 902-567-8074 \n
URL:https://cjcbradio.com/event/cancer-transitions-moving-beyond-treatment/
END:VEVENT
END:VCALENDAR