BEGIN:VCALENDAR
VERSION:2.0
PRODID:-//CJCB - ECPv4.6.26//NONSGML v1.0//EN
CALSCALE:GREGORIAN
METHOD:PUBLISH
X-WR-CALNAME:CJCB
X-ORIGINAL-URL:https://cjcbradio.com
X-WR-CALDESC:Events for CJCB
BEGIN:VEVENT
DTSTART;TZID=America/Halifax:20180616T100000
DTEND;TZID=America/Halifax:20180616T160000
DTSTAMP:20260422T215218
CREATED:20180525T133822Z
LAST-MODIFIED:20180525T133822Z
UID:1351-1529143200-1529164800@cjcbradio.com
SUMMARY:Cape Breton Motor Madness
DESCRIPTION:Cape Breton Motor Madness in support of the Northside/Harbourview Hospital Foundation is happening on Saturday June 16th\, 2018 at the Northside Emera Centre from 10am-4pm. This is an all vehicle show open to anything with a motor. If you would like to register a vehicle please phone 902-794-5402. . Cost for general admission is $2 children under 5 are free. There will be food\, vendors\, bouncy houses\, face painting\, and of course one of the best vehicle shows on the island \n
URL:https://cjcbradio.com/event/cape-breton-motor-madness-2/
END:VEVENT
END:VCALENDAR