BEGIN:VCALENDAR
VERSION:2.0
PRODID:-//CJCB - ECPv4.6.26//NONSGML v1.0//EN
CALSCALE:GREGORIAN
METHOD:PUBLISH
X-WR-CALNAME:CJCB
X-ORIGINAL-URL:https://cjcbradio.com
X-WR-CALDESC:Events for CJCB
BEGIN:VEVENT
DTSTART;TZID=America/Halifax:20190509T140000
DTEND;TZID=America/Halifax:20190509T160000
DTSTAMP:20260423T101620
CREATED:20190429T185448Z
LAST-MODIFIED:20190429T185448Z
UID:5369-1557410400-1557417600@cjcbradio.com
SUMMARY:Cape Breton Ostomy Support Group Meeting
DESCRIPTION:The Cape Breton Ostomy support group will meet on Thursday\, May 9th at 2pm – 4 pm at the South Bar Fire Hall\, South Bar. This group are for those who have an ostomy\, will be having an ostomy and their support person. For more information\, contact Stasia at 902-562-1367 \n
URL:https://cjcbradio.com/event/cape-breton-ostomy-support-group-meeting/
END:VEVENT
END:VCALENDAR