BEGIN:VCALENDAR
VERSION:2.0
PRODID:-//CJCB - ECPv4.6.26//NONSGML v1.0//EN
CALSCALE:GREGORIAN
METHOD:PUBLISH
X-WR-CALNAME:CJCB
X-ORIGINAL-URL:https://cjcbradio.com
X-WR-CALDESC:Events for CJCB
BEGIN:VEVENT
DTSTART;VALUE=DATE:20220820
DTEND;VALUE=DATE:20220821
DTSTAMP:20260423T114743
CREATED:20220803T142341Z
LAST-MODIFIED:20220803T142341Z
UID:8615-1660953600-1661039999@cjcbradio.com
SUMMARY:Cape Breton Search and Rescue’s 1st Annual ATV Run
DESCRIPTION:Cape Breton Search and Rescue’s 1st Annual ATV Run happening Saturday\, August 20th. Registration starts at 9am\, departing at 10am. \nOffering poker run hands\, 50/50 draw\, cash BBQ and door prizes. \nRegistration is $35 per bike \nVisit CBSAR.info/ATVRun or our Facebook page or call Andrea at 902.371.5435 \n
URL:https://cjcbradio.com/event/cape-breton-search-and-rescues-1st-annual-atv-run/
END:VEVENT
END:VCALENDAR