BEGIN:VCALENDAR
VERSION:2.0
PRODID:-//CJCB - ECPv4.6.26//NONSGML v1.0//EN
CALSCALE:GREGORIAN
METHOD:PUBLISH
X-WR-CALNAME:CJCB
X-ORIGINAL-URL:https://cjcbradio.com
X-WR-CALDESC:Events for CJCB
BEGIN:VEVENT
DTSTART;TZID=America/Halifax:20191218T140000
DTEND;TZID=America/Halifax:20191218T160000
DTSTAMP:20260423T025152
CREATED:20191128T172928Z
LAST-MODIFIED:20191128T172928Z
UID:6077-1576677600-1576684800@cjcbradio.com
SUMMARY:Cards
DESCRIPTION:Wednesday\, December 18th. Join us for cards between 2 and 4 p.m. Cost is $5.00 \nMira Centre\, 4037 Gabarus Highway \n
URL:https://cjcbradio.com/event/cards-2/
END:VEVENT
END:VCALENDAR