BEGIN:VCALENDAR
VERSION:2.0
PRODID:-//CJCB - ECPv4.6.26//NONSGML v1.0//EN
CALSCALE:GREGORIAN
METHOD:PUBLISH
X-WR-CALNAME:CJCB
X-ORIGINAL-URL:https://cjcbradio.com
X-WR-CALDESC:Events for CJCB
BEGIN:VEVENT
DTSTART;TZID=UTC+0:20170331T210000
DTEND;TZID=UTC+0:20170331T235500
DTSTAMP:20260423T101527
CREATED:20170322T213947Z
LAST-MODIFIED:20170322T213947Z
UID:410-1490994000-1491004500@cjcbradio.com
SUMMARY:CB Bike Rally Dance
DESCRIPTION:Featuring Full Circle Live \nFriday\, March 31st\, 9 PM – 1 AM at the Ashby Legion\, Branch 138\, State Street\, Sydney \n$10 per person\, pay at the door \n
URL:https://cjcbradio.com/event/cb-bike-rally-dance/
END:VEVENT
END:VCALENDAR