BEGIN:VCALENDAR
VERSION:2.0
PRODID:-//CJCB - ECPv4.6.26//NONSGML v1.0//EN
CALSCALE:GREGORIAN
METHOD:PUBLISH
X-WR-CALNAME:CJCB
X-ORIGINAL-URL:https://cjcbradio.com
X-WR-CALDESC:Events for CJCB
BEGIN:VEVENT
DTSTART;VALUE=DATE:20251011
DTEND;VALUE=DATE:20251012
DTSTAMP:20260422T190105
CREATED:20251008T130037Z
LAST-MODIFIED:20251008T130037Z
UID:10425-1760140800-1760227199@cjcbradio.com
SUMMARY:Ceilidh Eilean na Nollaig
DESCRIPTION:“Ceilidh Eilean na Nollaig”\, a Christmas Island Ceilidh will be held on Saturday\, October 11\, 2025 at 5 pm at St. Barra Church & Christmas Island Communities Centre at 47 Church Road\, Christmas Island\, NS. A Celtic Colours Community Cultural event. Bring your instruments\, music\, songs\, and dance steps! Everyone is Welcome! Coffee\, tea\, sweets\, and a light lunch will be served. Admission by donation. Sponsored by: The Wardens of the Church of St. Barra Preservation and Development Society. Supported by: DCB\, ACOA\, Forty Oaks\, CBRM\, CCTH\, NSGA\, Efficiency NS\, & Celtic Colours. \n
URL:https://cjcbradio.com/event/ceilidh-eilean-na-nollaig/
END:VEVENT
END:VCALENDAR