BEGIN:VCALENDAR
VERSION:2.0
PRODID:-//CJCB - ECPv4.6.26//NONSGML v1.0//EN
CALSCALE:GREGORIAN
METHOD:PUBLISH
X-WR-CALNAME:CJCB
X-ORIGINAL-URL:https://cjcbradio.com
X-WR-CALDESC:Events for CJCB
BEGIN:VEVENT
DTSTART;TZID=America/Halifax:20221105T120000
DTEND;TZID=America/Halifax:20221105T160000
DTSTAMP:20260422T140510
CREATED:20221101T183535Z
LAST-MODIFIED:20221101T183607Z
UID:8716-1667649600-1667664000@cjcbradio.com
SUMMARY:Christmas Bazaar - Polish Village Hall
DESCRIPTION:The always popular Christmas Bazaar at the Polish Village Hall in Whitney Pier will take place this Saturday\, November 5\, from 12 noon to 4 p.m. More than two dozen vendors. Unique\, one-of-a-kind items. Admission is $2 in support of the St. Michael’s Polish Benefit Society. \n
URL:https://cjcbradio.com/event/christmas-bazaar-polish-village-hall-2/
END:VEVENT
END:VCALENDAR