BEGIN:VCALENDAR
VERSION:2.0
PRODID:-//CJCB - ECPv4.6.26//NONSGML v1.0//EN
CALSCALE:GREGORIAN
METHOD:PUBLISH
X-WR-CALNAME:CJCB
X-ORIGINAL-URL:https://cjcbradio.com
X-WR-CALDESC:Events for CJCB
BEGIN:VEVENT
DTSTART;TZID=America/Halifax:20251108T120000
DTEND;TZID=America/Halifax:20251108T160000
DTSTAMP:20260419T165433
CREATED:20251104T135531Z
LAST-MODIFIED:20251104T135531Z
UID:10458-1762603200-1762617600@cjcbradio.com
SUMMARY:Christmas Bazaar -- Polish Village Hall
DESCRIPTION:The Polish Village Hall (972 Victoria Road\, Whitney Pier) will be hosting its beautiful annual Christmas bazaar on Saturday\, November 8 from 12 noon to 4 p.m. Many vendors upstairs and downstairs. $2 admission to support the St. Michael’s Polish Benefit Society. \n
URL:https://cjcbradio.com/event/christmas-bazaar-polish-village-hall-4/
END:VEVENT
END:VCALENDAR