BEGIN:VCALENDAR
VERSION:2.0
PRODID:-//CJCB - ECPv4.6.26//NONSGML v1.0//EN
CALSCALE:GREGORIAN
METHOD:PUBLISH
X-WR-CALNAME:CJCB
X-ORIGINAL-URL:https://cjcbradio.com
X-WR-CALDESC:Events for CJCB
BEGIN:VEVENT
DTSTART;TZID=UTC+0:20171013T160000
DTEND;TZID=UTC+0:20171015T170000
DTSTAMP:20260421T014239
CREATED:20170925T213235Z
LAST-MODIFIED:20170926T152456Z
UID:1020-1507910400-1508086800@cjcbradio.com
SUMMARY:Christmas Craft Show
DESCRIPTION:Home Crafters of Cape Breton \n30th Anniversary Christmas Craft Show \nSt. Theresas Parish Center Corner of Ashby and St. Peter’s Rds \nFriday Oct. 13 4-8pm \nSaturday Oct. 14 10am – 6pm \nSundary Oct. 15 12 noon – 5pm \n<Admission $2.00\, Under 12 free. \n
URL:https://cjcbradio.com/event/christmas-craft-show/
END:VEVENT
END:VCALENDAR