BEGIN:VCALENDAR
VERSION:2.0
PRODID:-//CJCB - ECPv4.6.26//NONSGML v1.0//EN
CALSCALE:GREGORIAN
METHOD:PUBLISH
X-WR-CALNAME:CJCB
X-ORIGINAL-URL:https://cjcbradio.com
X-WR-CALDESC:Events for CJCB
BEGIN:VEVENT
DTSTART;TZID=America/Halifax:20251214T130000
DTEND;TZID=America/Halifax:20251214T150000
DTSTAMP:20260423T101615
CREATED:20251211T152504Z
LAST-MODIFIED:20251211T152504Z
UID:10522-1765717200-1765724400@cjcbradio.com
SUMMARY:Christmas in the Cabin
DESCRIPTION:The annual Christmas in the Cabin event will take place on Sunday\, December 14th from 1 – 3pm. Hike up Coxheath Hills Wilderness Trail\nto enjoy some Christmas stories\, songs & readings.\nThe fire will be on and so will the hot apple cider.\nUse the Secondary Entrance at 1298 Coxheath Road. \n
URL:https://cjcbradio.com/event/christmas-in-the-cabin-2/
END:VEVENT
END:VCALENDAR