BEGIN:VCALENDAR
VERSION:2.0
PRODID:-//CJCB - ECPv4.6.26//NONSGML v1.0//EN
CALSCALE:GREGORIAN
METHOD:PUBLISH
X-WR-CALNAME:CJCB
X-ORIGINAL-URL:https://cjcbradio.com
X-WR-CALDESC:Events for CJCB
BEGIN:VEVENT
DTSTART;TZID=America/Halifax:20251115T100000
DTEND;TZID=America/Halifax:20251115T140000
DTSTAMP:20260419T170109
CREATED:20251027T134958Z
LAST-MODIFIED:20251027T135235Z
UID:10447-1763200800-1763215200@cjcbradio.com
SUMMARY:Christmas in the Country
DESCRIPTION:Saturday November 15th at the Loch Lomond Community Hall\, 3349 Loch Lomond Road East.  10am-2pm Crafts\, Baked Goods\, Vendors and Holiday Cheer. \nLoch Lomond Heritage Association \n
URL:https://cjcbradio.com/event/christmas-in-the-country-2/
END:VEVENT
END:VCALENDAR