BEGIN:VCALENDAR
VERSION:2.0
PRODID:-//CJCB - ECPv4.6.26//NONSGML v1.0//EN
CALSCALE:GREGORIAN
METHOD:PUBLISH
X-WR-CALNAME:CJCB
X-ORIGINAL-URL:https://cjcbradio.com
X-WR-CALDESC:Events for CJCB
BEGIN:VEVENT
DTSTART;TZID=UTC+0:20170408T190000
DTEND;TZID=UTC+0:20170412T220000
DTSTAMP:20260425T110355
CREATED:20170315T150843Z
LAST-MODIFIED:20170315T150843Z
UID:336-1491678000-1492034400@cjcbradio.com
SUMMARY:Closing Spiel
DESCRIPTION:April 8th – 12th \nOpen to Members and Guests.  Choose from Tues/Thurs/Sat or Wed/Fri/Sat.  Join us for the final curling of the season! \n
URL:https://cjcbradio.com/event/closing-spiel/
END:VEVENT
END:VCALENDAR