BEGIN:VCALENDAR
VERSION:2.0
PRODID:-//CJCB - ECPv4.6.26//NONSGML v1.0//EN
CALSCALE:GREGORIAN
METHOD:PUBLISH
X-WR-CALNAME:CJCB
X-ORIGINAL-URL:https://cjcbradio.com
X-WR-CALDESC:Events for CJCB
BEGIN:VEVENT
DTSTART;VALUE=DATE:20241117
DTEND;VALUE=DATE:20241118
DTSTAMP:20260420T012339
CREATED:20241104T175727Z
LAST-MODIFIED:20241104T175727Z
UID:9987-1731801600-1731887999@cjcbradio.com
SUMMARY:Coal Town Chorus Gospel Concert
DESCRIPTION:St. Mary’s Church\, 8 Marconi St. on Sunday November 17th\, 2024 at 7pm.  $10 per ticket.  Tickets available by call Al Knox 902-849-600 or 902-577-3621. \n
URL:https://cjcbradio.com/event/coal-town-chorus-gospel-concert/
END:VEVENT
END:VCALENDAR