BEGIN:VCALENDAR
VERSION:2.0
PRODID:-//CJCB - ECPv4.6.26//NONSGML v1.0//EN
CALSCALE:GREGORIAN
METHOD:PUBLISH
X-WR-CALNAME:CJCB
X-ORIGINAL-URL:https://cjcbradio.com
X-WR-CALDESC:Events for CJCB
BEGIN:VEVENT
DTSTART;TZID=UTC+0:20170516T090000
DTEND;TZID=UTC+0:20170516T090000
DTSTAMP:20260423T020912
CREATED:20170512T210354Z
LAST-MODIFIED:20170512T210354Z
UID:656-1494925200-1494925200@cjcbradio.com
SUMMARY:Community Impact Summit Follow Up
DESCRIPTION:Tuesday\, May 16th 9:00am– 11:00am Centre 200 (Concourse) 481 George Street\, Sydney Please RSVP to erin@unitedwaycapebreton.com *Registration is required. If you could kindly come prepared with input on four questions. Please visit www.unitedwaycapebreton.com to view questions \n
URL:https://cjcbradio.com/event/community-impact-summit-follow-up/
END:VEVENT
END:VCALENDAR