BEGIN:VCALENDAR
VERSION:2.0
PRODID:-//CJCB - ECPv4.6.26//NONSGML v1.0//EN
CALSCALE:GREGORIAN
METHOD:PUBLISH
X-WR-CALNAME:CJCB
X-ORIGINAL-URL:https://cjcbradio.com
X-WR-CALDESC:Events for CJCB
BEGIN:VEVENT
DTSTART;VALUE=DATE:20240131
DTEND;VALUE=DATE:20240201
DTSTAMP:20260422T103200
CREATED:20231214T192844Z
LAST-MODIFIED:20231214T192844Z
UID:9473-1706659200-1706745599@cjcbradio.com
SUMMARY:Cookie Exchange
DESCRIPTION:Glace Bay Library \nWed Jan 31 \n6pm \nBake some of your favourite cookies and bring them to the library for our cookie exchange! Registration required. Please email ewilliams@cbrl.ca or cmcinnis@cbrl.ca \n
URL:https://cjcbradio.com/event/cookie-exchange-2/
END:VEVENT
END:VCALENDAR