BEGIN:VCALENDAR
VERSION:2.0
PRODID:-//CJCB - ECPv4.6.26//NONSGML v1.0//EN
CALSCALE:GREGORIAN
METHOD:PUBLISH
X-WR-CALNAME:CJCB
X-ORIGINAL-URL:https://cjcbradio.com
X-WR-CALDESC:Events for CJCB
BEGIN:VEVENT
DTSTART;TZID=UTC+0:20171124T130000
DTEND;TZID=UTC+0:20171124T150000
DTSTAMP:20260421T081305
CREATED:20171117T181154Z
LAST-MODIFIED:20171117T181154Z
UID:1244-1511528400-1511535600@cjcbradio.com
SUMMARY:Cove Guest Home Bake Sale
DESCRIPTION:The Cove Auxiliary will be holding a Home Baking Sale on Friday\, November 24th\, 2017 from 1:00 pm – 3:00 pm in the Great Room at the Cove Guest Home\, 320 Alexandra Street\, Sydney\, NS. This is a great chance to get a head start on your Christmas Baking. \n
URL:https://cjcbradio.com/event/cove-guest-home-bake-sale/
END:VEVENT
END:VCALENDAR