BEGIN:VCALENDAR
VERSION:2.0
PRODID:-//CJCB - ECPv4.6.26//NONSGML v1.0//EN
CALSCALE:GREGORIAN
METHOD:PUBLISH
X-WR-CALNAME:CJCB
X-ORIGINAL-URL:https://cjcbradio.com
X-WR-CALDESC:Events for CJCB
BEGIN:VEVENT
DTSTART;TZID=UTC+0:20171201T130000
DTEND;TZID=UTC+0:20171201T150000
DTSTAMP:20260422T172359
CREATED:20171108T192929Z
LAST-MODIFIED:20171108T192929Z
UID:1208-1512133200-1512140400@cjcbradio.com
SUMMARY:Craft and Bake Sale
DESCRIPTION:The Ladies Auxiliary of the Northside Community Guest Home are sponsoring a Crafts and Baked Goods Sale.  Location:  Main Building\, Northside Guest Home\, Queen Street\, North Sydney on Friday\, December 1st from 1 PM – 3 PM.  Something for Everyone. \n
URL:https://cjcbradio.com/event/craft-and-bake-sale/
END:VEVENT
END:VCALENDAR