BEGIN:VCALENDAR
VERSION:2.0
PRODID:-//CJCB - ECPv4.6.26//NONSGML v1.0//EN
CALSCALE:GREGORIAN
METHOD:PUBLISH
X-WR-CALNAME:CJCB
X-ORIGINAL-URL:https://cjcbradio.com
X-WR-CALDESC:Events for CJCB
BEGIN:VEVENT
DTSTART;TZID=America/Halifax:20191122T170000
DTEND;TZID=America/Halifax:20191122T210000
DTSTAMP:20260422T234810
CREATED:20191104T180841Z
LAST-MODIFIED:20191104T180841Z
UID:5959-1574442000-1574456400@cjcbradio.com
SUMMARY:Crafty Christmas Market
DESCRIPTION:Crafty Christmas Market\nGlace Bay Firehall\nNov. 22 (5pm to 9pm)\nNov. 23 (10am to 6 pm)\nAdmission is by Donation: In Support of the New Aberdeen Revitalization Affordable Housing Society\nFace Painting for the kids & lots of crafts for Christmas Shopping… \n
URL:https://cjcbradio.com/event/crafty-christmas-market/2019-11-22/
END:VEVENT
END:VCALENDAR