BEGIN:VCALENDAR
VERSION:2.0
PRODID:-//CJCB - ECPv4.6.26//NONSGML v1.0//EN
CALSCALE:GREGORIAN
METHOD:PUBLISH
X-WR-CALNAME:CJCB
X-ORIGINAL-URL:https://cjcbradio.com
X-WR-CALDESC:Events for CJCB
BEGIN:VEVENT
DTSTART;VALUE=DATE:20260528
DTEND;VALUE=DATE:20260529
DTSTAMP:20260421T093552
CREATED:20260420T180752Z
LAST-MODIFIED:20260420T180752Z
UID:10718-1779926400-1780012799@cjcbradio.com
SUMMARY:Crafty Corner: Butterflies
DESCRIPTION:Glace Bay Library \nThurs May 28     3:30pm \nCome make a butterfly craft \n
URL:https://cjcbradio.com/event/crafty-corner-butterflies/
END:VEVENT
END:VCALENDAR