BEGIN:VCALENDAR
VERSION:2.0
PRODID:-//CJCB - ECPv4.6.26//NONSGML v1.0//EN
CALSCALE:GREGORIAN
METHOD:PUBLISH
X-WR-CALNAME:CJCB
X-ORIGINAL-URL:https://cjcbradio.com
X-WR-CALDESC:Events for CJCB
BEGIN:VEVENT
DTSTART;VALUE=DATE:20260521
DTEND;VALUE=DATE:20260522
DTSTAMP:20260421T041814
CREATED:20260420T180119Z
LAST-MODIFIED:20260420T180119Z
UID:10715-1779321600-1779407999@cjcbradio.com
SUMMARY:Crafty Corner: Daffodil craft
DESCRIPTION:Glace Bay Library \nThurs May 21   3:30pm \nMake a cute daffodil craft \n
URL:https://cjcbradio.com/event/crafty-corner-daffodil-craft/
END:VEVENT
END:VCALENDAR