BEGIN:VCALENDAR
VERSION:2.0
PRODID:-//CJCB - ECPv4.6.26//NONSGML v1.0//EN
CALSCALE:GREGORIAN
METHOD:PUBLISH
X-WR-CALNAME:CJCB
X-ORIGINAL-URL:https://cjcbradio.com
X-WR-CALDESC:Events for CJCB
BEGIN:VEVENT
DTSTART;VALUE=DATE:20260514
DTEND;VALUE=DATE:20260515
DTSTAMP:20260420T232247
CREATED:20260420T175734Z
LAST-MODIFIED:20260420T175734Z
UID:10713-1778716800-1778803199@cjcbradio.com
SUMMARY:Crafty Corner: Ladybugs
DESCRIPTION:Glace Bay Library \nThurs May 14  3:30pm \nDrop in to make a ladybug craft \n  \n
URL:https://cjcbradio.com/event/crafty-corner-ladybugs/
END:VEVENT
END:VCALENDAR