BEGIN:VCALENDAR
VERSION:2.0
PRODID:-//CJCB - ECPv4.6.26//NONSGML v1.0//EN
CALSCALE:GREGORIAN
METHOD:PUBLISH
X-WR-CALNAME:CJCB
X-ORIGINAL-URL:https://cjcbradio.com
X-WR-CALDESC:Events for CJCB
BEGIN:VEVENT
DTSTART;VALUE=DATE:20260507
DTEND;VALUE=DATE:20260508
DTSTAMP:20260420T232354
CREATED:20260420T175240Z
LAST-MODIFIED:20260420T175240Z
UID:10709-1778112000-1778198399@cjcbradio.com
SUMMARY:Crafty Corner: Mother’s Day Card
DESCRIPTION:Glace Bay Library \nThurs May 7    3:30pm \nCome make a Mother’s Day Card \n  \n
URL:https://cjcbradio.com/event/crafty-corner-mothers-day-card/
END:VEVENT
END:VCALENDAR