BEGIN:VCALENDAR
VERSION:2.0
PRODID:-//CJCB - ECPv4.6.26//NONSGML v1.0//EN
CALSCALE:GREGORIAN
METHOD:PUBLISH
X-WR-CALNAME:CJCB
X-ORIGINAL-URL:https://cjcbradio.com
X-WR-CALDESC:Events for CJCB
BEGIN:VEVENT
DTSTART;TZID=America/Halifax:20240808T110000
DTEND;TZID=America/Halifax:20240808T120000
DTSTAMP:20260422T214044
CREATED:20240729T135628Z
LAST-MODIFIED:20240729T135628Z
UID:9825-1723114800-1723118400@cjcbradio.com
SUMMARY:Cyber Security Presentation
DESCRIPTION:Glace Bay Library \nThurs Aug 8 \n11am \nJoin CBRL staff for a presentation on Cyber Security \n  \n  \n
URL:https://cjcbradio.com/event/cyber-security-presentation/
END:VEVENT
END:VCALENDAR