BEGIN:VCALENDAR
VERSION:2.0
PRODID:-//CJCB - ECPv4.6.26//NONSGML v1.0//EN
CALSCALE:GREGORIAN
METHOD:PUBLISH
X-WR-CALNAME:CJCB
X-ORIGINAL-URL:https://cjcbradio.com
X-WR-CALDESC:Events for CJCB
BEGIN:VEVENT
DTSTART;TZID=America/Halifax:20190126T090000
DTEND;TZID=America/Halifax:20190127T010000
DTSTAMP:20260422T140016
CREATED:20190108T184454Z
LAST-MODIFIED:20190108T184454Z
UID:5111-1548493200-1548550800@cjcbradio.com
SUMMARY:Dance
DESCRIPTION:BRING YOUR DANCING SHOES! 80/90’S DANCE WITH DJ MIKE\nSaturday\, • January 26\, 9:00 PM to 1:00 AM.\nAdmission by Donation. Community Centre Marion Bridge\, 3921 Gabarus Hwy\, Marion Bridge \n
URL:https://cjcbradio.com/event/dance/
END:VEVENT
END:VCALENDAR