BEGIN:VCALENDAR
VERSION:2.0
PRODID:-//CJCB - ECPv4.6.26//NONSGML v1.0//EN
CALSCALE:GREGORIAN
METHOD:PUBLISH
X-WR-CALNAME:CJCB
X-ORIGINAL-URL:https://cjcbradio.com
X-WR-CALDESC:Events for CJCB
BEGIN:VEVENT
DTSTART;VALUE=DATE:20241115
DTEND;VALUE=DATE:20241118
DTSTAMP:20260419T153211
CREATED:20241031T135117Z
LAST-MODIFIED:20241031T135117Z
UID:9964-1731628800-1731887999@cjcbradio.com
SUMMARY:Deck the Halls - a Christmas artisan market
DESCRIPTION:15-17 Nov 2024 \n1 pm-8 pm on 15 Nov\, 10 am-6 pm on 16 Nov\, 10 am-4 pm on 17 Nov \nSt. Patrick’s Church Museum\, 87 Esplanade\, Sydney \nIn support of MS Canada (last year we raised over $2000!). Excellence in hand crafted products from Cape Breton artisans: jewellery\, pottery\, weaving\, glass\, chocolate\, goat milk soaps and more… \n
URL:https://cjcbradio.com/event/deck-the-halls-a-christmas-artisan-market/
END:VEVENT
END:VCALENDAR