BEGIN:VCALENDAR
VERSION:2.0
PRODID:-//CJCB - ECPv4.6.26//NONSGML v1.0//EN
CALSCALE:GREGORIAN
METHOD:PUBLISH
X-WR-CALNAME:CJCB
X-ORIGINAL-URL:https://cjcbradio.com
X-WR-CALDESC:Events for CJCB
BEGIN:VEVENT
DTSTART;TZID=America/Halifax:20260120T180000
DTEND;TZID=America/Halifax:20260120T190000
DTSTAMP:20260421T094211
CREATED:20251211T162728Z
LAST-MODIFIED:20251211T162728Z
UID:10537-1768932000-1768935600@cjcbradio.com
SUMMARY:Dementia Family Cafe
DESCRIPTION:Glace Bay Library \nTuesday January 20th \n6 – 7pm \nWe welcome the community to join us at this cafe to improve social and emotional well-being for older adults with memory challenges and their care partners and families. \n  \n
URL:https://cjcbradio.com/event/dementia-family-cafe/
END:VEVENT
END:VCALENDAR