BEGIN:VCALENDAR
VERSION:2.0
PRODID:-//CJCB - ECPv4.6.26//NONSGML v1.0//EN
CALSCALE:GREGORIAN
METHOD:PUBLISH
X-WR-CALNAME:CJCB
X-ORIGINAL-URL:https://cjcbradio.com
X-WR-CALDESC:Events for CJCB
BEGIN:VEVENT
DTSTART;TZID=America/Halifax:20251006T153000
DTEND;TZID=America/Halifax:20251006T193000
DTSTAMP:20260424T114318
CREATED:20250911T180556Z
LAST-MODIFIED:20250911T180556Z
UID:10384-1759764600-1759779000@cjcbradio.com
SUMMARY:DnD Monday
DESCRIPTION:Glace Bay Library \nEvery Monday 3:30-7:30 \n
URL:https://cjcbradio.com/event/dnd-monday-3/2025-10-06/
END:VEVENT
END:VCALENDAR